BEGIN:VCALENDAR
VERSION:2.0
PRODID:-//Rotary Means Business - ECPv6.15.20//NONSGML v1.0//EN
CALSCALE:GREGORIAN
METHOD:PUBLISH
X-WR-CALNAME:Rotary Means Business
X-ORIGINAL-URL:https://rmbaustinmetro.org
X-WR-CALDESC:Events for Rotary Means Business
REFRESH-INTERVAL;VALUE=DURATION:PT1H
X-Robots-Tag:noindex
X-PUBLISHED-TTL:PT1H
BEGIN:VTIMEZONE
TZID:America/Chicago
BEGIN:DAYLIGHT
TZOFFSETFROM:-0600
TZOFFSETTO:-0500
TZNAME:CDT
DTSTART:20240310T080000
END:DAYLIGHT
BEGIN:STANDARD
TZOFFSETFROM:-0500
TZOFFSETTO:-0600
TZNAME:CST
DTSTART:20241103T070000
END:STANDARD
BEGIN:DAYLIGHT
TZOFFSETFROM:-0600
TZOFFSETTO:-0500
TZNAME:CDT
DTSTART:20250309T080000
END:DAYLIGHT
BEGIN:STANDARD
TZOFFSETFROM:-0500
TZOFFSETTO:-0600
TZNAME:CST
DTSTART:20251102T070000
END:STANDARD
BEGIN:DAYLIGHT
TZOFFSETFROM:-0600
TZOFFSETTO:-0500
TZNAME:CDT
DTSTART:20260308T080000
END:DAYLIGHT
BEGIN:STANDARD
TZOFFSETFROM:-0500
TZOFFSETTO:-0600
TZNAME:CST
DTSTART:20261101T070000
END:STANDARD
END:VTIMEZONE
BEGIN:VEVENT
DTSTART;TZID=America/Chicago:20250515T183000
DTEND;TZID=America/Chicago:20250515T210000
DTSTAMP:20260424T080814
CREATED:20250507T234902Z
LAST-MODIFIED:20250507T234955Z
UID:698-1747333800-1747342800@rmbaustinmetro.org
SUMMARY:A happy hour social at Whitestone Brewery
DESCRIPTION:Come out and meet new people and make new friends. \nThursday nights they have $3 off pitchers of beer. \nOwners Ryan and Danielle Anglen opened Whitestone Brewery with a vision in mind – to provide a comfortable atmosphere where people can enjoy a high-quality\, meticulously crafted beer while exchanging great conversation with friends\, family\, and peers\, unwinding after a long day\, or enjoying live music and planned events out on the dog-friendly patio.
URL:https://rmbaustinmetro.org/event/a-happy-hour-social-at-whitestone-brewery/
LOCATION:Whitestone Brewery\, 401 E Whitestone Blvd\, Cedar Park\, TX\, 78613\, United States
CATEGORIES:Social
ATTACH;FMTTYPE=image/jpeg:https://rmbaustinmetro.org/wp-content/uploads/2025/05/img-9084_orig.jpg
ORGANIZER;CN="Austin Metro Rotary Means Business":MAILTO:info@rmbaustinmetro.org
END:VEVENT
BEGIN:VEVENT
DTSTART;TZID=America/Chicago:20250521T183000
DTEND;TZID=America/Chicago:20250521T203000
DTSTAMP:20260424T080814
CREATED:20250506T220939Z
LAST-MODIFIED:20250613T213516Z
UID:668-1747852200-1747859400@rmbaustinmetro.org
SUMMARY:Casa Chapala - North Austin
DESCRIPTION:Join us for the Rotary Means Business – Austin Metro networking event at Casa Chapala in Austin\, Texas. Community leaders and business professionals come together for an engaging evening of networking and fellowship. Casa Chapala’s sophisticated setting\, adorned with exquisite Mexican architecture and mouthwatering cuisine\, provides an ideal backdrop for meaningful conversations and connections. \nCome see why RMB Austin Metro is the premier networking event for Rotarians.
URL:https://rmbaustinmetro.org/event/casa-chapala-north-austin-22/
LOCATION:TX
ATTACH;FMTTYPE=image/jpeg:https://rmbaustinmetro.org/wp-content/uploads/2025/03/20250312_194818-scaled.jpg
ORGANIZER;CN="Austin Metro Rotary Means Business":MAILTO:info@rmbaustinmetro.org
END:VEVENT
END:VCALENDAR